BEGIN:VCALENDAR
VERSION:2.0
PRODID:-//ChamberMaster//Event Calendar 2.0//EN
METHOD:PUBLISH
X-PUBLISHED-TTL:P3D
REFRESH-INTERVAL:P3D
CALSCALE:GREGORIAN
BEGIN:VEVENT
DTSTART:20191102T230000Z
DTEND:20191103T040000Z
X-MICROSOFT-CDO-ALLDAYEVENT:FALSE
SUMMARY:2nd Annual Honor365 Ten4 Responding Gala
DESCRIPTION:Join us for Ten4Responding\, an event to raise suicide awareness. Proceeds for this event will fund services for veteran and first responder mental wellness. Hear the stories of six local heroes\, including a student leader\, business leader\, police officer\, Emergency Medical Technician\, military veteran\, and a firefighter each to be honored for their leadership in suicide prevention and awareness efforts in our community.
X-ALT-DESC;FMTTYPE=text/html:Join us for Ten4Responding\, an event to raise suicide awareness. Proceeds for this event will fund services for veteran and first responder mental wellness. Hear the stories of six local heroes\, including a student leader\, business leader\, police officer\, Emergency Medical Technician\, military veteran\, and a firefighter&mdash\;each to be honored for their leadership in suicide prevention and awareness efforts in our community.
LOCATION:Grand America Hotel 555 Main St Salt Lake City\, UT 84111
UID:e.2428.11291
SEQUENCE:3
DTSTAMP:20260425T173516Z
URL:http://business.wbcutah.com/events/details/2nd-annual-honor365-ten4-responding-gala-11291
END:VEVENT

END:VCALENDAR
