BEGIN:VCALENDAR
VERSION:2.0
PRODID:-//ChamberMaster//Event Calendar 2.0//EN
METHOD:PUBLISH
X-PUBLISHED-TTL:P3D
REFRESH-INTERVAL:P3D
CALSCALE:GREGORIAN
BEGIN:VEVENT
DTSTART:20220210T190000Z
DTEND:20220210T201500Z
X-MICROSOFT-CDO-ALLDAYEVENT:FALSE
SUMMARY:Relaunching Your Career: Tools & Strategies for Women Returning to the Workforce
DESCRIPTION:Many Utah women take career breaks for various reasons\, including raising children\, assisting with elder care\, and managing other responsibilities. Eventually\, many women want to relaunch their careers\, whether it is full-time\, part-time\, or even contract work. Yet\, relaunching is intimidating for so many women. Often\, we feel that we are not prepared for professional work after being at home and outdated in terms of skills\, competencies\, and professional networks. Don't lose hope because you are more prepared than you think! This engaging panel of experts and relaunchers will provide experiences\, insights\, tools\, tips\, and strategies for women returning to the workforce whether you are thinking about it or already have a "job" but want a "career." Join us as we discuss how to be successful in relaunching your career!
X-ALT-DESC;FMTTYPE=text/html:Many Utah women take career breaks for various reasons\, including raising children\, assisting with elder care\, and managing other responsibilities. Eventually\, many women want to relaunch their careers\, whether it is full-time\, part-time\, or even contract work. Yet\, relaunching is intimidating for so many women. Often\, we feel that we are not prepared for professional work after being at home and outdated in terms of skills\, competencies\, and professional networks. Don&rsquo\;t lose hope because you are more prepared than you think! This engaging panel of experts and relaunchers will provide experiences\, insights\, tools\, tips\, and strategies for women returning to the workforce&mdash\;whether you are thinking about it or already have a &ldquo\;job&rdquo\; but want a &ldquo\;career.&rdquo\; Join us as we discuss how to be successful in relaunching your career!
LOCATION:Online/Virtual
UID:e.2428.12350
SEQUENCE:3
DTSTAMP:20260424T070729Z
URL:http://business.wbcutah.com/events/details/relaunching-your-career-tools-strategies-for-women-returning-to-the-workforce-12350
END:VEVENT

END:VCALENDAR
