BEGIN:VCALENDAR
VERSION:2.0
PRODID:-//ChamberMaster//Event Calendar 2.0//EN
METHOD:PUBLISH
X-PUBLISHED-TTL:P3D
REFRESH-INTERVAL:P3D
CALSCALE:GREGORIAN
BEGIN:VEVENT
DTSTART:20210602T160000Z
DTEND:20210602T180000Z
X-MICROSOFT-CDO-ALLDAYEVENT:FALSE
SUMMARY:Utah Department of Workforce Services: Civilian Resume Virtual Workshop
DESCRIPTION:Join the Utah Department of Workforce Services for a live online resume workshop designed specifically to help you create a civilian resume. We can help turn your military experience into your next job.
X-ALT-DESC;FMTTYPE=text/html:Join the Utah Department of Workforce Services for a live online resume workshop designed specifically to help you create a civilian resume. We can help turn your military experience into your next job.
LOCATION:
UID:e.2428.12168
SEQUENCE:3
DTSTAMP:20260425T040501Z
URL:http://business.wbcutah.com/events/details/utah-department-of-workforce-services-civilian-resume-virtual-workshop-12168
END:VEVENT

END:VCALENDAR
