BEGIN:VCALENDAR
VERSION:2.0
PRODID:-//ChamberMaster//Event Calendar 2.0//EN
METHOD:PUBLISH
X-PUBLISHED-TTL:P3D
REFRESH-INTERVAL:P3D
CALSCALE:GREGORIAN
BEGIN:VEVENT
DTSTART:20260507T160000Z
DTEND:20260507T190000Z
X-MICROSOFT-CDO-ALLDAYEVENT:FALSE
SUMMARY:Utah's Statewide Virtual Job Fair
DESCRIPTION:
X-ALT-DESC;FMTTYPE=text/html:
LOCATION:
UID:e.2428.16109
SEQUENCE:3
DTSTAMP:20260423T234846Z
URL:http://business.wbcutah.com/events/details/utah-s-statewide-virtual-job-fair-05-07-2026-16109
END:VEVENT

END:VCALENDAR
