BEGIN:VCALENDAR
VERSION:2.0
PRODID:-//ChamberMaster//Event Calendar 2.0//EN
METHOD:PUBLISH
X-PUBLISHED-TTL:P3D
REFRESH-INTERVAL:P3D
CALSCALE:GREGORIAN
BEGIN:VEVENT
DTSTART;VALUE=DATE:20251024
DTEND;VALUE=DATE:20251025
TRANSP:TRANSPARENT
X-MICROSOFT-CDO-ALLDAYEVENT:TRUE
SUMMARY:7th Annual Halloween Costume Drive
DESCRIPTION:What: Joyce University is kicking off its 7th Annual Halloween Costume Drive to bring the fun and excitement of Halloween to young patients at Intermountain Primary Children's Hospital. In 2024\, the drive met 100% of the hospital's holiday needs with more than 1\,000 donations from costumes and trick-or-treat buckets to d cor kits\, candy\, and prizes. This year\, Joyce is inviting the community again to help bring the Halloween fun to children spending the holiday in the hospital. Donations of new\, unused costumes (newborn teen)\, trick-or-treat buckets\, individually packaged candy and small prizes will be accepted Sept. 29 Oct. 24\, 2025.\n\n \n\n                  Items Needed:\n\n	New\, unused costumes & accessories for newborns through teens (priority needs span infant sizes through teen t-shirts)\n	Trick-or-treat buckets (kid-friendly themes)\n	Individually packaged candy (hard candy\, chocolate\, gummies\, etc.)\n	Small non-food prizes (stickers\, small coloring books\, slime\, Play-Doh\, stress balls\, etc.)\n	Please donate new items only\; no latex or button batteries\; keep items in original store packaging.\n	Additional items/details listed on the event page.\n\n \n\nWhen:       When: Monday\, September 29   Friday\, October 24\, 2025 (donation window)\n\n \n\nWhere:      Where: Joyce University\, 12257 Business Park Dr\, Draper\, UT 84020\n\n \n\n                  How to Donate:\n\n\n	Amazon Wishlist (direct ship to campus)\n	Monetary donations accepted via PayPal\n	In-person drop-off at the Draper campus (address above)\n	Additional details and links are listed on the event page.\n\n \n\nWho:         Who: Joyce University students\, faculty\, staff\, alumni\, and community donors supporting patients at Primary Children's Hospital.\n\n \n\nMaterials: Photo stills and b-roll from 2024 drive.\n\nMedia Contact:\n\nCole Stenzel\, 801.746.1668\, cstenzel@lovecomm.net
X-ALT-DESC;FMTTYPE=text/html:<strong><span style="color:black\;"><span style="font-family:arial\,sans-serif\;"><span style="font-size:11pt\;">&nbsp\;What:</span></span></span></strong>&nbsp\;<span style="color:black\;"><span style="font-family:arial\,sans-serif\;"><span style="font-size:11pt\;">Joyce University is kicking off its 7th Annual Halloween Costume Drive to bring the fun and excitement of Halloween to young patients at Intermountain Primary Children&rsquo\;s Hospital. In 2024\, the drive met 100% of the hospital&rsquo\;s holiday needs with more than 1\,000 donations from costumes and trick-or-treat buckets to d&eacute\;cor kits\, candy\, and prizes. This year\, Joyce is inviting the community again to help bring the Halloween fun to children spending the holiday in the hospital. Donations of new\, unused costumes (newborn&ndash\;teen)\, trick-or-treat buckets\, individually packaged candy and small prizes will be accepted Sept. 29&ndash\;Oct. 24\, 2025.</span></span></span><br />\n&nbsp\;<br />\n&nbsp\;&nbsp\;&nbsp\;&nbsp\;&nbsp\;&nbsp\;&nbsp\;&nbsp\;&nbsp\;&nbsp\;&nbsp\;&nbsp\;&nbsp\;&nbsp\;&nbsp\;&nbsp\;&nbsp\;&nbsp\;<strong><span style="color:black\;"><span style="font-family:arial\,sans-serif\;"><span style="font-size:11pt\;">Items Needed:</span></span></span></strong>\n<ul>\n	<li style="margin-left:15px\;color:black\;margin-top:0in\;margin-bottom:0in\;vertical-align:baseline\;"><span style="font-family:arial\,sans-serif\;"><span style="font-size:11pt\;">New\, unused costumes &amp\; accessories for newborns through teens (priority needs span infant sizes through teen t-shirts)</span></span></li>\n	<li style="margin-left:15px\;color:black\;margin-top:0in\;margin-bottom:0in\;vertical-align:baseline\;"><span style="font-family:arial\,sans-serif\;"><span style="font-size:11pt\;">Trick-or-treat buckets (kid-friendly themes)</span></span></li>\n	<li style="margin-left:15px\;color:black\;margin-top:0in\;margin-bottom:0in\;vertical-align:baseline\;"><span style="font-family:arial\,sans-serif\;"><span style="font-size:11pt\;">Individually packaged candy (hard candy\, chocolate\, gummies\, etc.)</span></span></li>\n	<li style="margin-left:15px\;color:black\;margin-top:0in\;margin-bottom:0in\;vertical-align:baseline\;"><span style="font-family:arial\,sans-serif\;"><span style="font-size:11pt\;">Small non-food prizes (stickers\, small coloring books\, slime\, Play-Doh\, stress balls\, etc.)</span></span></li>\n	<li style="margin-left:15px\;color:black\;margin-top:0in\;margin-bottom:0in\;vertical-align:baseline\;"><span style="font-family:arial\,sans-serif\;"><span style="font-size:11pt\;">Please donate new items only\; no latex or button batteries\; keep items in original store packaging.</span></span></li>\n	<li style="margin-left:15px\;color:black\;margin-top:0in\;margin-bottom:0in\;vertical-align:baseline\;"><span style="font-family:arial\,sans-serif\;"><span style="font-size:11pt\;">Additional items/details listed on&nbsp\;<a data-saferedirecturl="https://www.google.com/url?q=https://linkprotect.cudasvc.com/url?a%3Dhttps%253a%252f%252fwww.joyce.edu%252fevents%252fannual-halloween-drive%252f%26c%3DE\,1\,MWZ95DMMSB2x7RuAychpOaE9kWVqweTiRNfq_dDcdLzy79PNYy9Wlx5P4H3ATLpHlPvuHyP7lAsnVATXrq564e5iMWLM66shCK2mtLd7kP22CDxBZgzlfOyW%26typo%3D1&amp\;source=gmail&amp\;ust=1759432262054000&amp\;usg=AOvVaw3MTQxbJoTaXyN9Nf1hA2fQ" href="https://linkprotect.cudasvc.com/url?a=https%3a%2f%2fwww.joyce.edu%2fevents%2fannual-halloween-drive%2f&amp\;c=E\,1\,MWZ95DMMSB2x7RuAychpOaE9kWVqweTiRNfq_dDcdLzy79PNYy9Wlx5P4H3ATLpHlPvuHyP7lAsnVATXrq564e5iMWLM66shCK2mtLd7kP22CDxBZgzlfOyW&amp\;typo=1" style="color:rgb(17\, 85\, 204)\;" target="_blank">the event page</a>.</span></span></li>\n</ul>\n&nbsp\;<br />\n<strong><span style="color:black\;"><span style="font-family:arial\,sans-serif\;"><span style="font-size:11pt\;">When:</span></span></span></strong>&nbsp\;<span style="color:black\;"><span style="font-family:arial\,sans-serif\;"><span style="font-size:11pt\;">&nbsp\;&nbsp\;&nbsp\;&nbsp\;&nbsp\;&nbsp\;<strong>When:</strong>&nbsp\;</span></span></span><span style="color:black\;"><span style="font-family:arial\,sans-serif\;"><span style="font-size:11pt\;">Monday\, September 29 &ndash\; Friday\, October 24\, 2025 (donation window)</span></span></span><br />\n&nbsp\;<br />\n<strong><span style="color:black\;"><span style="font-family:arial\,sans-serif\;"><span style="font-size:11pt\;">Where:</span></span></span></strong>&nbsp\;<span style="color:black\;"><span style="font-family:arial\,sans-serif\;"><span style="font-size:11pt\;">&nbsp\;&nbsp\;&nbsp\;&nbsp\;&nbsp\;<strong>Where:</strong>&nbsp\;</span></span></span><span style="color:black\;"><span style="font-family:arial\,sans-serif\;"><span style="font-size:11pt\;">Joyce University\, 12257 Business Park Dr\, Draper\, UT 84020</span></span></span><br />\n&nbsp\;<br />\n&nbsp\;&nbsp\;&nbsp\;&nbsp\;&nbsp\;&nbsp\;&nbsp\;&nbsp\;&nbsp\;&nbsp\;&nbsp\;&nbsp\;&nbsp\;&nbsp\;&nbsp\;&nbsp\;&nbsp\;&nbsp\;<strong><span style="color:black\;"><span style="font-family:arial\,sans-serif\;"><span style="font-size:11pt\;">How to Donate:</span></span></span></strong>\n\n<ul>\n	<li style="margin-left:15px\;color:black\;margin-top:0in\;margin-bottom:0in\;vertical-align:baseline\;"><span style="font-family:arial\,sans-serif\;"><span style="font-size:11pt\;"><a data-saferedirecturl="https://www.google.com/url?q=https://linkprotect.cudasvc.com/url?a%3Dhttps%253a%252f%252fa.co%252fbUiqvez%26c%3DE\,1\,HOPELcz4YIi83tQswuH_ChuVqUlkp3S_ITwMxy-PgpNWiA6K4uhSkg0cfEHWId-vpa8BvSm_lnjahLHDZ8hdMHxa9Qsbvmp5nLKqiOv62BJ2%26typo%3D1&amp\;source=gmail&amp\;ust=1759432262054000&amp\;usg=AOvVaw0TocVxY3yQ5Eek9Cdu0mD3" href="https://linkprotect.cudasvc.com/url?a=https%3a%2f%2fa.co%2fbUiqvez&amp\;c=E\,1\,HOPELcz4YIi83tQswuH_ChuVqUlkp3S_ITwMxy-PgpNWiA6K4uhSkg0cfEHWId-vpa8BvSm_lnjahLHDZ8hdMHxa9Qsbvmp5nLKqiOv62BJ2&amp\;typo=1" style="color:rgb(17\, 85\, 204)\;" target="_blank">Amazon Wishlist</a>&nbsp\;(direct ship to campus)</span></span></li>\n	<li style="margin-left:15px\;color:black\;margin-top:0in\;margin-bottom:0in\;vertical-align:baseline\;"><span style="font-family:arial\,sans-serif\;"><span style="font-size:11pt\;">Monetary donations accepted via&nbsp\;<a data-saferedirecturl="https://www.google.com/url?q=https://www.paypal.com/ncp/payment/QVW6DV6SELR2A&amp\;source=gmail&amp\;ust=1759432262054000&amp\;usg=AOvVaw13fWZJNfRXBAWQeggU3yIC" href="https://www.paypal.com/ncp/payment/QVW6DV6SELR2A" style="color:rgb(17\, 85\, 204)\;" target="_blank">PayPal</a></span></span></li>\n	<li style="margin-left:15px\;color:black\;margin-top:0in\;margin-bottom:0in\;vertical-align:baseline\;"><span style="font-family:arial\,sans-serif\;"><span style="font-size:11pt\;">In-person drop-off at the Draper campus (address above)</span></span></li>\n	<li style="margin-left:15px\;color:black\;margin-top:0in\;margin-bottom:0in\;vertical-align:baseline\;"><span style="font-family:arial\,sans-serif\;"><span style="font-size:11pt\;">Additional details and links are listed on&nbsp\;<a data-saferedirecturl="https://www.google.com/url?q=https://linkprotect.cudasvc.com/url?a%3Dhttps%253a%252f%252fwww.joyce.edu%252fevents%252fannual-halloween-drive%252f%26c%3DE\,1\,HztGezbnusr-escwtZ_nReWWhyKnXqHJCfs81_h_oLJgOFwg3HVUEYAAN3X1FD2Kn2_6J1SLfEbLbD5NSTemcK-kFwsW2Dj1_n_ehKK-td_17MGjsUTgVvaYrg\,\,%26typo%3D1&amp\;source=gmail&amp\;ust=1759432262054000&amp\;usg=AOvVaw2-oTa7fHrQkkThJVkBHyec" href="https://linkprotect.cudasvc.com/url?a=https%3a%2f%2fwww.joyce.edu%2fevents%2fannual-halloween-drive%2f&amp\;c=E\,1\,HztGezbnusr-escwtZ_nReWWhyKnXqHJCfs81_h_oLJgOFwg3HVUEYAAN3X1FD2Kn2_6J1SLfEbLbD5NSTemcK-kFwsW2Dj1_n_ehKK-td_17MGjsUTgVvaYrg\,\,&amp\;typo=1" style="color:rgb(17\, 85\, 204)\;" target="_blank">the event page</a>.</span></span></li>\n</ul>\n&nbsp\;<br />\n<strong><span style="color:black\;"><span style="font-family:arial\,sans-serif\;"><span style="font-size:11pt\;">Who:</span></span></span></strong>&nbsp\;<span style="color:black\;"><span style="font-family:arial\,sans-serif\;"><span style="font-size:11pt\;">&nbsp\;&nbsp\;&nbsp\;&nbsp\;&nbsp\;&nbsp\;&nbsp\;&nbsp\;<strong>Who:</strong>&nbsp\;</span></span></span><span style="color:black\;"><span style="font-family:arial\,sans-serif\;"><span style="font-size:11pt\;">Joyce University students\, faculty\, staff\, alumni\, and community donors supporting patients at Primary Children&rsquo\;s Hospital.</span></span></span><br />\n&nbsp\;<br />\n<strong>Materials:</strong>&nbsp\;<a data-saferedirecturl="https://www.google.com/url?q=https://linkprotect.cudasvc.com/url?a%3Dhttps%253a%252f%252furl.avanan.click%252fv2%252fr01%252f___https%253a%252fapp.air.inc%252fa%252fbLPhibnRl___.YXAzOmxvdmVjb21tOmE6bzo4ZTU0ZDVmYjQyNzg3NzI4YzA3YzFhODc1NTM2MzMxMTo3OjljNTQ6MmI4NTA4NzQ4ZjVmMWUzNmRmYzE3MmNjZjI4MTkwODNkYWNiOWU5ZWVjMWJmMWVjZDY3MGU1MWRkYTMyZjRmMzpoOkY6Rg%26c%3DE\,1\,G6NUdWnDDwpJVNFg-VBlOcUS_t9GcYJ0nQVFuB1xrCyko1EVxJpcrbxK1SGBUqTS5bjii-uI6cbIVSiFSGsVUIgcUYxQYyUbnWL20C7ljYHGh5Q5qXMxvEfTQSSL%26typo%3D1&amp\;source=gmail&amp\;ust=1759432262054000&amp\;usg=AOvVaw0nK-E8wPd_7OmozYLTJb6B" href="https://linkprotect.cudasvc.com/url?a=https%3a%2f%2furl.avanan.click%2fv2%2fr01%2f___https%3a%2fapp.air.inc%2fa%2fbLPhibnRl___.YXAzOmxvdmVjb21tOmE6bzo4ZTU0ZDVmYjQyNzg3NzI4YzA3YzFhODc1NTM2MzMxMTo3OjljNTQ6MmI4NTA4NzQ4ZjVmMWUzNmRmYzE3MmNjZjI4MTkwODNkYWNiOWU5ZWVjMWJmMWVjZDY3MGU1MWRkYTMyZjRmMzpoOkY6Rg&amp\;c=E\,1\,G6NUdWnDDwpJVNFg-VBlOcUS_t9GcYJ0nQVFuB1xrCyko1EVxJpcrbxK1SGBUqTS5bjii-uI6cbIVSiFSGsVUIgcUYxQYyUbnWL20C7ljYHGh5Q5qXMxvEfTQSSL&amp\;typo=1" style="color:rgb(17\, 85\, 204)\;" target="_blank"><span style="font-family:arial\,sans-serif\;"><span style="font-size:11pt\;">Photo stills</span></span></a><span style="color:black\;"><span style="font-family:arial\,sans-serif\;"><span style="font-size:11pt\;">&nbsp\;and&nbsp\;</span></span></span><a data-saferedirecturl="https://www.google.com/url?q=https://linkprotect.cudasvc.com/url?a%3Dhttps%253a%252f%252fapp.air.inc%252fa%252fclxejEurx%26c%3DE\,1\,A2Igaz0dsgDG9S4TU68rHhJS4TKlA5k8jISAoWkyx5_LXjHh4IooGW5hqZjQesFvUSOzMf6RuuDAq8oTPPuvjSqvZ2Sux6J65ZWCB-2GYso-Ay0P0KrUiUHSRMId%26typo%3D1&amp\;source=gmail&amp\;ust=1759432262054000&amp\;usg=AOvVaw1aUaqApFbrpaFEJLactzdn" href="https://linkprotect.cudasvc.com/url?a=https%3a%2f%2fapp.air.inc%2fa%2fclxejEurx&amp\;c=E\,1\,A2Igaz0dsgDG9S4TU68rHhJS4TKlA5k8jISAoWkyx5_LXjHh4IooGW5hqZjQesFvUSOzMf6RuuDAq8oTPPuvjSqvZ2Sux6J65ZWCB-2GYso-Ay0P0KrUiUHSRMId&amp\;typo=1" style="color:rgb(17\, 85\, 204)\;" target="_blank"><span style="font-family:arial\,sans-serif\;"><span style="font-size:11pt\;">b-roll</span></span></a><span style="color:black\;"><span style="font-family:arial\,sans-serif\;"><span style="font-size:11pt\;">&nbsp\;from 2024 drive.</span></span></span>\n\n<p style="color: rgb(34\, 34\, 34)\; font-family: Arial\, Helvetica\, sans-serif\; font-size: small\; margin: 0in\;"><b><span style="font-size: 11pt\; font-family: Arial\, sans-serif\; color: black\;">Media Contact:</span></b></p>\n\n<p style="color: rgb(34\, 34\, 34)\; font-family: Arial\, Helvetica\, sans-serif\; font-size: small\; margin: 0in\;"><span style="font-size: 11pt\; font-family: Arial\, sans-serif\; color: black\;">Cole Stenzel\, 801.746.1668\,&nbsp\;</span><a href="mailto:cstenzel@lovecomm.net" style="color: rgb(17\, 85\, 204)\;" target="_blank"><span style="font-size: 11pt\; font-family: Arial\, sans-serif\;">cstenzel@lovecomm.net</span></a><span style="font-size: 11pt\; font-family: Arial\, sans-serif\; color: black\;">&nbsp\;</span></p>\n
LOCATION:
UID:e.2428.15848
SEQUENCE:3
DTSTAMP:20260423T214707Z
URL:https://business.wbcutah.com/events/details/7th-annual-halloween-costume-drive-15848
END:VEVENT

END:VCALENDAR
