BEGIN:VCALENDAR
VERSION:2.0
PRODID:-//ChamberMaster//Event Calendar 2.0//EN
METHOD:PUBLISH
X-PUBLISHED-TTL:P3D
REFRESH-INTERVAL:P3D
CALSCALE:GREGORIAN
BEGIN:VEVENT
DTSTART:20240925T233000Z
DTEND:20240926T013000Z
X-MICROSOFT-CDO-ALLDAYEVENT:FALSE
SUMMARY:BioHive Returnship Workshop Series: An Introduction to Returnships
DESCRIPTION:A Returnship Overview: Tech-Moms will kick off the first of our workshops by helping participants reflect on their career break\, setting a vision for workforce re-entry\, and identifying what those crucial next steps are in preparing to engage with companies.\n\n Connect with other interested returners and receive tools and support to begin your journey. Learn more about BioHive's returnship initiative here.\n\n Light refreshments will be served.
X-ALT-DESC;FMTTYPE=text/html:<p apple="" background-color:="" color="" font-size:="" helvetica="" noto="" segoe="" style="box-sizing: border-box\; margin-top: 0px\; margin-bottom: 1.25rem\; color: rgb(52\, 0\, 0)\; font-family: -apple-system\, BlinkMacSystemFont\, "><br />\n<br />\nA Returnship Overview:&nbsp\;<a href="https://www.tech-moms.org/" rel="nofollow noopener" style="box-sizing: border-box\; text-decoration-line: none\; color: var(--brand-color)\; cursor: pointer\; transition: var(--transition)\; border-bottom: 1px solid var(--brand-pale-bg-color)\; margin-bottom: 0px\;" target="_blank">Tech-Moms</a>&nbsp\;will kick off the first of our workshops by helping participants reflect on their career break\, setting a vision for workforce re-entry\, and identifying what those crucial next steps are in preparing to engage with companies.</p>\n\n<p apple="" background-color:="" color="" font-size:="" helvetica="" noto="" segoe="" style="box-sizing: border-box\; margin-top: 0px\; margin-bottom: 1.25rem\; color: rgb(52\, 0\, 0)\; font-family: -apple-system\, BlinkMacSystemFont\, ">&#8203\;Connect with other interested returners and receive tools and support to begin your journey. Learn more about BioHive&rsquo\;s returnship initiative&nbsp\;<a href="https://www.biohive.com/returnships/" rel="nofollow noopener" style="box-sizing: border-box\; text-decoration-line: none\; color: var(--brand-color)\; cursor: pointer\; transition: var(--transition)\; border-bottom: 1px solid var(--brand-pale-bg-color)\; margin-bottom: 0px\;" target="_blank">here</a>.</p>\n\n<p apple="" background-color:="" color="" font-size:="" helvetica="" noto="" segoe="" style="box-sizing: border-box\; margin-top: 0px\; margin-bottom: 0px\; color: rgb(52\, 0\, 0)\; font-family: -apple-system\, BlinkMacSystemFont\, ">&#8203\;Light refreshments will be served.</p>\n
LOCATION:Kiln 26 S Rio Grande St #2072 Salt Lake City\, UT 84101
UID:e.2428.15491
SEQUENCE:3
DTSTAMP:20260422T210214Z
URL:https://business.wbcutah.com/events/details/biohive-returnship-workshop-series-an-introduction-to-returnships-15491
END:VEVENT

END:VCALENDAR
