BEGIN:VCALENDAR
VERSION:2.0
PRODID:-//ChamberMaster//Event Calendar 2.0//EN
METHOD:PUBLISH
X-PUBLISHED-TTL:P3D
REFRESH-INTERVAL:P3D
CALSCALE:GREGORIAN
BEGIN:VEVENT
DTSTART:20251025T000000Z
DTEND:20251025T020000Z
X-MICROSOFT-CDO-ALLDAYEVENT:FALSE
SUMMARY:CenExel Utah Trunk or Treat
DESCRIPTION:Join CenExel Utah for Trunk or Treat on October 24th.  We'll have a food truck\, information booths\, gift baskets give-a-ways\, and of course lots of Halloween candy and fun!
X-ALT-DESC;FMTTYPE=text/html:Join CenExel Utah for&nbsp\;<span style="font-family:aptos\,sans-serif">Trunk or Treat on October 24<span style="font-size:11.6667px">th.&nbsp\; <span style="font-size:14px">We&#39\;ll have a f</span></span><span style="font-size:14px">ood truck\, information booths\, gift baskets give-a-ways\, and of course lots of Halloween candy and fun!&nbsp\;</span></span><span style="font-size:14px">&nbsp\;</span>
LOCATION:650 E 4500 S Suite 100 Millcreek\, Utah 84107
UID:e.2428.15854
SEQUENCE:3
DTSTAMP:20260424T134054Z
URL:https://business.wbcutah.com/events/details/cenexel-utah-trunk-or-treat-15854
END:VEVENT

END:VCALENDAR
