BEGIN:VCALENDAR
VERSION:2.0
PRODID:-//ChamberMaster//Event Calendar 2.0//EN
METHOD:PUBLISH
X-PUBLISHED-TTL:P3D
REFRESH-INTERVAL:P3D
CALSCALE:GREGORIAN
BEGIN:VEVENT
DTSTART:20251024T180000Z
DTEND:20251026T220000Z
X-MICROSOFT-CDO-ALLDAYEVENT:FALSE
SUMMARY:FREE Ogden Home Show\, October 24-26\, 2025
DESCRIPTION:FREE ADMISSION\n\nThe Ogden Home Show is taking place October 24 26\, 2025 at the Golden Spike Event Center.\n\nWhy YOU Will Love the Home Show\n\n\n	HUGE SAVINGS   Take advantage of exclusive show-only deals from trusted local experts!\n	LIVE DEMOS   See demonstrations LIVE and discover new products in action!\n	WIN PRIZES   Participate in exciting giveaways happening throughout the weekend!\n	ONE STOP   Meet top contractors\, designers\, and remodelers all in one place!\n\n\n \n\nThe Ogden Home Show | October 24 26\, 2025\n\nGolden Spike Event Center   1000 1200 W St\, Ogden\, UT 84404\n\nFriday: 12:00pm   8:00pm | Saturday: 10:00am   6:00pm | Sunday: 11:00am   4:00pm\n\nInterested in exhibiting? Give us a call at (435) 345-HOME\n\nFor more information\, visit: https://ogdenhomeshow.com/
X-ALT-DESC;FMTTYPE=text/html:<p><strong>FREE ADMISSION</strong><br />\n<strong>The Ogden Home Show is taking place October 24&ndash\;26\, 2025 at the Golden Spike Event Center.</strong></p>\n\n<p>Why YOU Will Love the Home Show</p>\n\n<ul>\n	<li><strong>HUGE SAVINGS</strong>&nbsp\;&mdash\; Take advantage of exclusive show-only deals from trusted local experts!</li>\n	<li><strong>LIVE DEMOS</strong>&nbsp\;&mdash\; See demonstrations LIVE and discover new products in action!</li>\n	<li><strong>WIN PRIZES</strong>&nbsp\;&mdash\; Participate in exciting giveaways happening throughout the weekend!</li>\n	<li><strong>ONE STOP</strong>&nbsp\;&mdash\; Meet top contractors\, designers\, and remodelers all in one place!</li>\n</ul>\n\n<p>&nbsp\;</p>\n\n<p>The Ogden Home Show | October 24&ndash\;26\, 2025<br />\nGolden Spike Event Center &ndash\; 1000 1200 W St\, Ogden\, UT 84404<br />\nFriday: 12:00pm &ndash\; 8:00pm | Saturday: 10:00am &ndash\; 6:00pm | Sunday: 11:00am &ndash\; 4:00pm<br />\n<em>Interested in exhibiting? Give us a call at (435) 345-HOME</em><br />\nFor more information\, visit:&nbsp\;<a href="https://ogdenhomeshow.com/" rel="nofollow noopener noreferrer" style="color: rgb(54\, 89\, 227)\; box-sizing: border-box\;" target="_blank" title="https://ogdenhomeshow.com/">https://ogdenhomeshow.com/</a></p>\n
LOCATION:Golden Spike Event Center 1000 1200 W St\, Ogden\, UT 84404
UID:e.2428.15876
SEQUENCE:3
DTSTAMP:20260424T134118Z
URL:https://business.wbcutah.com/events/details/free-ogden-home-show-october-24-26-2025-10-24-2025-15876
END:VEVENT

END:VCALENDAR
