BEGIN:VCALENDAR
VERSION:2.0
PRODID:-//ChamberMaster//Event Calendar 2.0//EN
METHOD:PUBLISH
X-PUBLISHED-TTL:P3D
REFRESH-INTERVAL:P3D
CALSCALE:GREGORIAN
BEGIN:VEVENT
DTSTART:20260508T180000Z
DTEND:20260510T220000Z
X-MICROSOFT-CDO-ALLDAYEVENT:FALSE
SUMMARY:FREE Salt Lake Home Expo\, May 2026
DESCRIPTION:FREE ADMISSION\n\nThe Salt Lake Home Expo is taking place May 8 10\, 2025 at the Mountain America Expo Center\n\nWhy YOU Will Love the Home Expo\n\n  HUGE SAVINGS   Access exclusive show-only discounts from top local experts!\n\n  LIVE DEMOS   Watch interactive demonstrations and discover new innovations!\n\n  WIN PRIZES   Enter exciting giveaways all weekend long!\n\n  ONE STOP   Connect with contractors\, remodelers\, and designers under one roof!\n\n \n\nSalt Lake Home Expo | May 8 10\, 2025\n\nMountain America Expo Center   9575 State Street\, Sandy\, UT\n\nFriday: 12:00pm   7:00pm | Saturday: 10:00am   5:00pm | Sunday: 11:00am   4:00pm\n\nInterested in exhibiting? Give us a call at (435) 345-HOME\n\nFor more information\, visit: https://saltlakehomeexpo.com
X-ALT-DESC;FMTTYPE=text/html:<p><strong><strong>FREE ADMISSION</strong></strong><br />\n<strong><strong>The Salt Lake Home Expo is taking place May 8&ndash\;10\, 2025 at the Mountain America Expo Center</strong></strong></p>\n\n<p>Why YOU Will Love the Home Expo<br />\n&bull\; <strong><strong>HUGE SAVINGS</strong></strong> &mdash\; Access exclusive show-only discounts from top local experts!<br />\n&bull\; <strong><strong>LIVE DEMOS</strong></strong> &mdash\; Watch interactive demonstrations and discover new innovations!<br />\n&bull\; <strong><strong>WIN PRIZES</strong></strong> &mdash\; Enter exciting giveaways all weekend long!<br />\n&bull\; <strong><strong>ONE STOP</strong></strong> &mdash\; Connect with contractors\, remodelers\, and designers under one roof!</p>\n\n<p>&nbsp\;</p>\n\n<p>Salt Lake Home Expo | May 8&ndash\;10\, 2025<br />\nMountain America Expo Center &ndash\; 9575 State Street\, Sandy\, UT<br />\nFriday: 12:00pm &ndash\; 7:00pm | Saturday: 10:00am &ndash\; 5:00pm | Sunday: 11:00am &ndash\; 4:00pm<br />\n<em>Interested in exhibiting? Give us a call at (435) 345-HOME</em><br />\nFor more information\, visit: <a href="https://saltlakehomeexpo.com" rel="nofollow noopener noreferrer ugc" target="_blank" title="https://saltlakehomeexpo.com">https://saltlakehomeexpo.com</a></p>\n
LOCATION:Mountain America Expo Center Address: 9575 State St\, Sandy\, UT 84070
UID:e.2428.16112
SEQUENCE:3
DTSTAMP:20260423T192551Z
URL:https://business.wbcutah.com/events/details/free-salt-lake-home-expo-may-2026-16112
END:VEVENT

END:VCALENDAR
