BEGIN:VCALENDAR
VERSION:2.0
PRODID:-//ChamberMaster//Event Calendar 2.0//EN
METHOD:PUBLISH
X-PUBLISHED-TTL:P3D
REFRESH-INTERVAL:P3D
CALSCALE:GREGORIAN
BEGIN:VEVENT
DTSTART:20260116T190000Z
DTEND:20260118T230000Z
X-MICROSOFT-CDO-ALLDAYEVENT:FALSE
SUMMARY:FREE South Jordan Home & Garden Show
DESCRIPTION:FREE ADMISSION\n\nThe South Jordan Home & Garden Show is taking place January 16-18\, 2026 at the USU   Bastian Agricultural Center\n\nWhy YOU Will Love the Home Show\n\n\n	HUGE SAVINGS   take advantage of exclusive show-only deals from trusted local experts!\n	LIVE DEMOS   see demonstrations LIVE and discover new products in action!\n	WIN PRIZES   participate in exciting giveaways happening throughout the weekend!\n	ONE STOP   meet top contractors\, designers\, and remodelers all in one place!\n\n\n \n\nThe South Jordan Home & Garden Show| January 16th - 18th\, 2026\n\nUSU   Bastian Agricultural Center   2100 W 11400 S\, South Jordan\, UT 84095\n\nFriday: 12:00pm   7:00pm | Saturday: 10:00am   5:00pm | Sunday: 11:00am   4:00pm\n\nInterested in exhibiting? Give us a call at (435) 345-4663\n\nFor more information\, visit: https://southjordanhomeshow.com/
X-ALT-DESC;FMTTYPE=text/html:<p><strong><strong>FREE ADMISSION</strong></strong></p>\n\n<p><strong><strong>The South Jordan Home &amp\; Garden Show is taking place January 16-18\, 2026 at the </strong></strong><strong><strong>USU &ndash\; Bastian Agricultural Center</strong></strong></p>\n\n<p>Why YOU Will Love the Home Show</p>\n\n<ul>\n	<li><strong><strong>HUGE SAVINGS</strong></strong> &mdash\; take advantage of exclusive show-only deals from trusted local experts!</li>\n	<li><strong><strong>LIVE DEMOS</strong></strong> &mdash\; see demonstrations LIVE and discover new products in action!</li>\n	<li><strong><strong>WIN PRIZES</strong></strong> &mdash\; participate in exciting giveaways happening throughout the weekend!</li>\n	<li><strong><strong>ONE STOP</strong></strong> &mdash\; meet top contractors\, designers\, and remodelers all in one place!</li>\n</ul>\n\n<p>&nbsp\;</p>\n\n<p>The South Jordan Home &amp\; Garden Show| January 16th - 18th\, 2026</p>\n\n<p>USU &ndash\; Bastian Agricultural Center &ndash\; 2100 W 11400 S\, South Jordan\, UT 84095</p>\n\n<p>Friday: 12:00pm &ndash\; 7:00pm | Saturday: 10:00am &ndash\; 5:00pm | Sunday: 11:00am &ndash\; 4:00pm</p>\n\n<p><em>Interested in exhibiting? Give us a call at </em>(435) 345-4663</p>\n\n<p>For more information\, visit: https://southjordanhomeshow.com/</p>\n
LOCATION:USU Bastian Agricultural Center 2100 W 11400 S\, South Jordan\, UT 84095
UID:e.2428.15984
SEQUENCE:3
DTSTAMP:20260424T102042Z
URL:https://business.wbcutah.com/events/details/free-south-jordan-home-garden-show-15984
END:VEVENT

END:VCALENDAR
