BEGIN:VCALENDAR
VERSION:2.0
PRODID:-//ChamberMaster//Event Calendar 2.0//EN
METHOD:PUBLISH
X-PUBLISHED-TTL:P3D
REFRESH-INTERVAL:P3D
CALSCALE:GREGORIAN
BEGIN:VEVENT
DTSTART:20230413T190000Z
DTEND:20230413T200000Z
X-MICROSOFT-CDO-ALLDAYEVENT:FALSE
SUMMARY:Listen\, Ask\, and Learn with Utah First Lady Abby Cox & Sheri Dew
DESCRIPTION:The Deseret News and Utah Business invite you to 'Listen\, Ask and Learn' with two of Utah's most influential female voices\, First Lady of Utah\, Abby Cox and Executive Vice President and Chief Content Officer of Deseret Management Corporation\, Sheri Dew. \n\n\n\nIn this VIP limited engagement series\, we will feature personal meet and greets\, photo sessions and conversational question and answer opportunities with voices that have engaged us and captured our attention throughout the year.  \n\n\n\nRegistration will start at 1:00 PM\, followed by the conversation at 1:30.\n\n\n\nSeating is limited\, get your tickets today!
X-ALT-DESC;FMTTYPE=text/html:<br />\nThe Deseret News and Utah Business invite you to &#39\;Listen\, Ask and Learn&#39\; with two of Utah&rsquo\;s most influential female voices\, First Lady of Utah\, Abby Cox and Executive Vice President and Chief Content Officer of Deseret Management Corporation\, Sheri Dew.&nbsp\;<br />\n<br />\nIn this VIP limited engagement series\, we will feature personal meet and greets\, photo sessions and conversational question and answer opportunities with voices that have engaged us and captured our attention throughout the year. &nbsp\;<br />\n<br />\nRegistration will start at 1:00 PM\, followed by the conversation at 1:30.<br />\n<br />\nSeating is limited\, <a href="https://purchase.growtix.com/e/Voices_in_the_Afternoon">get your tickets</a> today!
LOCATION:David Eccles School of Business\, Garff Building The University of Utah 1731 East Campus Center Drive Salt Lake City\, UT
UID:e.2428.12762
SEQUENCE:3
DTSTAMP:20260424T083656Z
URL:https://business.wbcutah.com/events/details/listen-ask-and-learn-with-utah-first-lady-abby-cox-sheri-dew-12762
END:VEVENT

END:VCALENDAR
