BEGIN:VCALENDAR
VERSION:2.0
PRODID:-//ChamberMaster//Event Calendar 2.0//EN
METHOD:PUBLISH
X-PUBLISHED-TTL:P3D
REFRESH-INTERVAL:P3D
CALSCALE:GREGORIAN
BEGIN:VEVENT
DTSTART:20251207T020000Z
DTEND:20251207T040000Z
X-MICROSOFT-CDO-ALLDAYEVENT:FALSE
SUMMARY:Matteo Bocelli – Falling In Love World Tour
DESCRIPTION:Matteo Bocelli\, son of legendary tenor Andrea Bocelli\, is forging his own path with a sound that blends classical heritage and modern pop. With the release of his second album Falling In Love\, Matteo delivers emotionally rich ballads\, cinematic melodies\, and heartfelt storytelling that connect across generations. A gifted vocalist and pianist\, he's collaborated with world-class songwriters and performed on international stages. His music explores themes of love\, longing\, and beauty with a voice that's both powerful and tender. Whether performing solo or alongside his father\, Matteo captivates audiences with authenticity and charm. Join us for a romantic\, soul-stirring evening with one of today's most compelling emerging artists.
X-ALT-DESC;FMTTYPE=text/html:Matteo Bocelli\, son of legendary tenor Andrea Bocelli\, is forging his own path with a sound that blends classical heritage and modern pop. With the release of his second album Falling In Love\, Matteo delivers emotionally rich ballads\, cinematic melodies\, and heartfelt storytelling that connect across generations. A gifted vocalist and pianist\, he&rsquo\;s collaborated with world-class songwriters and performed on international stages. His music explores themes of love\, longing\, and beauty&mdash\;with a voice that&rsquo\;s both powerful and tender. Whether performing solo or alongside his father\, Matteo captivates audiences with authenticity and charm. Join us for a romantic\, soul-stirring evening with one of today&rsquo\;s most compelling emerging artists.
LOCATION:Eccles Center for the Performing Arts 1750 Kearns Blvd. Park City\, UT 84060
UID:e.2428.15872
SEQUENCE:3
DTSTAMP:20260424T102043Z
URL:https://business.wbcutah.com/events/details/matteo-bocelli-falling-in-love-world-tour-15872
END:VEVENT

END:VCALENDAR
