BEGIN:VCALENDAR
VERSION:2.0
PRODID:-//ChamberMaster//Event Calendar 2.0//EN
METHOD:PUBLISH
X-PUBLISHED-TTL:P3D
REFRESH-INTERVAL:P3D
CALSCALE:GREGORIAN
BEGIN:VEVENT
DTSTART:20260215T020000Z
DTEND:20260215T040000Z
X-MICROSOFT-CDO-ALLDAYEVENT:FALSE
SUMMARY:National Geographic LIVE with Robbie Shone - Adventures in Caving
DESCRIPTION:This Valentine's Day\, take your date on a journey like no other deep beneath the surface of the earth. Join world-renowned National Geographic Explorer and photographer Robbie Shone for an unforgettable evening as he unveils the beauty and mystery of the planet's last true frontiers: its hidden cave systems.\n\n\n\nFrom the world's deepest\, largest\, and longest caves\, Robbie has captured breathtaking\, never-before-seen images more than 7\,000 feet underground. He'll share these extraordinary visuals along with the fascinating stories behind his acclaimed features for National Geographic Magazine.\n\n\n\nEscape the ordinary this Valentine's Day and experience awe\, wonder\, and discovery together.
X-ALT-DESC;FMTTYPE=text/html:This Valentine&rsquo\;s Day\, take your date on a journey like no other&mdash\;deep beneath the surface of the earth. Join world-renowned National Geographic Explorer and photographer Robbie Shone for an unforgettable evening as he unveils the beauty and mystery of the planet&rsquo\;s last true frontiers: its hidden cave systems.<br />\n<br />\nFrom the world&rsquo\;s deepest\, largest\, and longest caves\, Robbie has captured breathtaking\, never-before-seen images more than 7\,000 feet underground. He&rsquo\;ll share these extraordinary visuals along with the fascinating stories behind his acclaimed features for National Geographic Magazine.<br />\n<br />\nEscape the ordinary this Valentine&rsquo\;s Day and experience awe\, wonder\, and discovery together.
LOCATION:Eccles Center for the Performing Arts 1750 Kearns Blvd. Park City UT\, 84098
UID:e.2428.15879
SEQUENCE:3
DTSTAMP:20260422T195923Z
URL:https://business.wbcutah.com/events/details/national-geographic-live-with-robbie-shone-adventures-in-caving-15879
END:VEVENT

END:VCALENDAR
