BEGIN:VCALENDAR
VERSION:2.0
PRODID:-//ChamberMaster//Event Calendar 2.0//EN
METHOD:PUBLISH
X-PUBLISHED-TTL:P3D
REFRESH-INTERVAL:P3D
CALSCALE:GREGORIAN
BEGIN:VEVENT
DTSTART:20251016T223000Z
DTEND:20251017T000000Z
X-MICROSOFT-CDO-ALLDAYEVENT:FALSE
SUMMARY:Ribbon Cutting - Aspen Peak Productions
DESCRIPTION:Come celebrate Aspen Peak Productions at the Spy Hop Rooftop in Downtown Salt Lake City at their ribbon cutting. Ribbon Cutting\, Giveaway and Food & Drinks will be provided. \n\n\n\nUtah is about to welcome a dynamic new force in the live events industry! Meet Rachel and Trevor\, a powerhouse husband-and-wife team combining their extensive expertise to create truly extraordinary experiences. With unwavering dedication\, they are committed to transforming your vision into reality and consistently exceeding expectations.\n\nWhether you're planning a social gathering\, a dream wedding\, or a high-impact corporate event\, Rachel and Trevor offer a comprehensive suite of services to bring your ideas to life. Their offerings include stunning Custom Dramatic Drape Designs\, immersive Projection Mapping\, top-tier Audio\, Video\, and Lighting solutions\, and a curated selection of Outdoor/Indoor Furniture and Event Decor. This is just a glimpse of the many services they provide\, all designed to make your event shine.\n\nTogether\, Rachel and Trevor are poised to elevate live events in Salt Lake City and beyond\, promising an unparalleled blend of creativity\, professionalism\, and dedication.\n\n\nJoin the Salt Lake Chamber for the Ribbon Cutting portion at 5:00pm.\n\n\n\nNote: If you plan to attend\, please RSVP using this link by October 9th.
X-ALT-DESC;FMTTYPE=text/html:<p>&nbsp\;</p>\n\n<p><br />\nCome celebrate&nbsp\;<strong><a href="http://www.AspenPeakProductions.com">Aspen Peak Productions</a></strong>&nbsp\;at the Spy Hop Rooftop in Downtown Salt Lake City at their ribbon cutting. Ribbon Cutting\, Giveaway and Food &amp\; Drinks will be provided.&nbsp\;<br />\n<br />\nUtah is about to welcome a dynamic new force in the live events industry! Meet Rachel and Trevor\, a powerhouse husband-and-wife team combining their extensive expertise to create truly extraordinary experiences. With unwavering dedication\, they are committed to transforming your vision into reality and consistently exceeding expectations.</p>\n\n<p>Whether you&#39\;re planning a social gathering\, a dream wedding\, or a high-impact corporate event\, Rachel and Trevor offer a comprehensive suite of services to bring your ideas to life. Their offerings include stunning Custom Dramatic Drape Designs\, immersive Projection Mapping\, top-tier Audio\, Video\, and Lighting solutions\, and a curated selection of Outdoor/Indoor Furniture and Event Decor. This is just a glimpse of the many services they provide\, all designed to make your event shine.</p>\n\n<p>Together\, Rachel and Trevor are poised to elevate live events in Salt Lake City and beyond\, promising an unparalleled blend of creativity\, professionalism\, and dedication.</p>\n<br />\n<span style="font-size:16px\;"><strong>Join the Salt Lake Chamber for the Ribbon&nbsp\;Cutting portion at 5:00pm.</strong></span><br />\n<br />\n<em>Note: If you plan to attend\, please RSVP using&nbsp\;<a href="https://www.eventbrite.com/e/ribbon-cutting-aspen-peak-productions-your-event-elevated-tickets-1533964000619?aff=ebdsshcopyurl&amp\;utm-campaign=social&amp\;utm-content=attendeeshare&amp\;utm-medium=discovery&amp\;utm-term=organizer-profile&amp\;utm-share-source=organizer-profile">this link</a> by October 9th.&nbsp\;</em><br />\n&nbsp\;\n<p style="color: rgb(34\, 34\, 34)\; font-size: small\; margin: 0in\; font-family: Aptos\, sans-serif\;">&nbsp\;</p>\n
LOCATION:SpyHop: 208 W 900 S\, Salt Lake City\, UT 84101 Parking Information: Street parking is available on 900 South and Washington Street.
UID:e.2428.15781
SEQUENCE:3
DTSTAMP:20260424T134105Z
URL:https://business.wbcutah.com/events/details/ribbon-cutting-aspen-peak-productions-15781
END:VEVENT

END:VCALENDAR
