BEGIN:VCALENDAR
VERSION:2.0
PRODID:-//ChamberMaster//Event Calendar 2.0//EN
METHOD:PUBLISH
X-PUBLISHED-TTL:P3D
REFRESH-INTERVAL:P3D
CALSCALE:GREGORIAN
BEGIN:VEVENT
DTSTART:20251205T011500Z
DTEND:20251205T030000Z
X-MICROSOFT-CDO-ALLDAYEVENT:FALSE
SUMMARY:Ribbon Cutting - Barry's
DESCRIPTION:Barry's is the original cardio and strength interval training workout that revolutionized the fitness industry. Our Salt Lake City studio will feature the signature RUN x LIFT classes - combining high-intensity treadmill intervals with strength training on the floor to deliver a dynamic\, results-driven group fitness experience. For more than 27 years\, Barry's has built a devoted global community and set the standard for boutique fitness. Salt Lake City class packages and memberships are available at special introductory rates! Head to the website to find out more.
X-ALT-DESC;FMTTYPE=text/html:<br />\n<br />\n<i style="color: rgb(34\, 34\, 34)\; font-family: Arial\, Helvetica\, sans-serif\; font-size: small\;">Barry&rsquo\;s is the original cardio and strength interval training workout that revolutionized the fitness industry. Our Salt Lake City studio will feature the signature RUN x LIFT classes - combining high-intensity treadmill intervals with strength training on the floor to deliver a dynamic\, results-driven group fitness experience. For more than 27 years\, Barry&rsquo\;s has built a devoted global community and set the standard for boutique fitness<b>.&nbsp\;</b><font color="#000000"><b>Salt Lake City class packages and memberships are available at</b>&nbsp\;<b>special introductory rates!&nbsp\;</b>Head to the website to find out more.&nbsp\;</font></i>
LOCATION:2188 Highland Dr Suite 104\, Salt Lake City\, UT 84106 Parking Information: Street parking and a parking garage are available.
UID:e.2428.15901
SEQUENCE:3
DTSTAMP:20260424T102032Z
URL:https://business.wbcutah.com/events/details/ribbon-cutting-barry-s-15901
END:VEVENT

END:VCALENDAR
