BEGIN:VCALENDAR
VERSION:2.0
PRODID:-//ChamberMaster//Event Calendar 2.0//EN
METHOD:PUBLISH
X-PUBLISHED-TTL:P3D
REFRESH-INTERVAL:P3D
CALSCALE:GREGORIAN
BEGIN:VEVENT
DTSTART:20251009T210000Z
DTEND:20251009T223000Z
X-MICROSOFT-CDO-ALLDAYEVENT:FALSE
SUMMARY:Ribbon Cutting - btone Fitness
DESCRIPTION:btone FITNESS Brickyard o ers an approachable hybrid of Pilates-inspired movements & strength training\, delivered in a 45-minute\, joyful flow that packs a serious punch. Our btobtone signature method strengthens every major muscle group in your body by. incorporating strength training\, functional movement\, balance and flexibility into every TONE class. \n\n\n\nPlease join us for the ribbon cutting at 3:30 PM.  \n\n\n\nCome check out the new space and the following vendors:\nDJ\n\nCriss-Cross Crunch - snacks\n\nChildren's Services Society - charity\n\nWater Fusion - drinks\n\nNaturally Naquai - Perfume - lotion and oil - @naturallynaquai \n\nRise Rejuvenation Med Spa - Vit B injections and other\n\nBright and Stormy Kids - vintage kids cloths\n\nMind body and soul massage - chair massage\n\nIn Her M Era custom and permanent jewelry - Jarilyn - In.her.m.era \n\nClean beauty products - Sidra Morris - Desertsage.wellness - \n\nTru Fru - Frozen chocolate covered fruit - Krystal
X-ALT-DESC;FMTTYPE=text/html:<div style="margin-left: 15px\;"><span style="font-family: Montserrat\, sans-serif\; font-size: 10pt\; white-space-collapse: preserve\;"><span class="il">btone</span> FITNESS Brickyard o&#64256\;ers an approachable hybrid of Pilates-inspired movements &amp\; strength training\, delivered in a 45-minute\, joyful flow that packs a serious punch. </span><span style="font-family: Montserrat\, sans-serif\; font-size: 10pt\; white-space-collapse: preserve\;">Our btobtone signature method strengthens every major muscle group in your body by. </span><span style="font-family: Montserrat\, sans-serif\; font-size: 10pt\; white-space-collapse: preserve\;">incorporating strength training\, functional movement\, balance and flexibility into every </span><span style="font-family: Montserrat\, sans-serif\; font-size: 10pt\; white-space-collapse: preserve\;">TONE class. </span><br />\n<br />\n<strong>Please join us for the ribbon cutting at 3:30 PM.&nbsp\;&nbsp\;<br />\n<br />\nCome check out the new space and the following vendors:</strong>\n<p>DJ</p>\n\n<p>Criss-Cross Crunch - snacks</p>\n\n<p>Children&#39\;s Services Society - charity</p>\n\n<p>Water Fusion - drinks</p>\n\n<p>Naturally Naquai - Perfume - lotion and oil - @naturallynaquai&nbsp\;</p>\n\n<p>Rise Rejuvenation Med Spa - Vit B injections and other</p>\n\n<p>Bright and Stormy Kids - vintage kids cloths</p>\n\n<p>Mind body and soul massage - chair massage</p>\n\n<p>In Her M Era custom and permanent jewelry - Jarilyn - In.her.m.era&nbsp\;</p>\n\n<p>Clean beauty products - Sidra Morris - Desertsage.wellness -&nbsp\;</p>\n\n<p>Tru Fru - Frozen chocolate covered fruit - Krystal</p>\n</div>\n\n<ul style="color: rgb(34\, 34\, 34)\; font-family: Arial\, Helvetica\, sans-serif\; font-size: small\;">\n</ul>\n
LOCATION:1295 Miller Ave\, Millcreek\, UT 84106 Parking is available in front of the building in the lot.
UID:e.2428.15821
SEQUENCE:3
DTSTAMP:20260424T134105Z
URL:https://business.wbcutah.com/events/details/ribbon-cutting-btone-fitness-15821
END:VEVENT

END:VCALENDAR
