BEGIN:VCALENDAR
VERSION:2.0
PRODID:-//ChamberMaster//Event Calendar 2.0//EN
METHOD:PUBLISH
X-PUBLISHED-TTL:P3D
REFRESH-INTERVAL:P3D
CALSCALE:GREGORIAN
BEGIN:VEVENT
DTSTART:20260312T170000Z
DTEND:20260312T190000Z
X-MICROSOFT-CDO-ALLDAYEVENT:FALSE
SUMMARY:SBA Office of Advocacy Cybersecurity Maturity Model Certification Program Small Business Impacts Roundtable
DESCRIPTION:The next SBA Office of Advocacy Small Business Roundtable will be held virtually on March 12\, 2026\, at 11 AM MT.\n\n\n\nIn 2024\, the U.S. Department of War published the final rules for the Cybersecurity Maturity Model Certification Program (CMMC). In 2025\, the Defense Acquisition Regulation Supplement posted rules to incorporate this into all contracts. Advocacy filed comments stating that the Department underestimated the costs of compliance with the certification. Now that these terms have been implemented\, Advocacy is hosting this roundtable to solicit insight from small businesses on their experiences with the CMMC program thus far. Specifically\, Advocacy would like information on how much the certification process has cost\, and the expected impact CMMC requirements will have on small businesses. We also seek to identify program improvements to reduce CMMC compliance burdens.\n\n\n\nPlease register and provide the information requested to receive a Teams link.
X-ALT-DESC;FMTTYPE=text/html:<br />\nThe next SBA Office of Advocacy Small Business Roundtable will be held virtually on March 12\, 2026\, at 11 AM MT.<br />\n<br />\nIn 2024\, the U.S. Department of War published the final rules for the Cybersecurity Maturity Model Certification Program (CMMC). In 2025\, the Defense Acquisition Regulation Supplement posted rules to incorporate this into all contracts. Advocacy filed comments stating that the Department underestimated the costs of compliance with the certification. Now that these terms have been implemented\, Advocacy is hosting this roundtable to solicit insight from small businesses on their experiences with the CMMC program thus far. Specifically\, Advocacy would like information on how much the certification process has cost\, and the expected impact CMMC requirements will have on small businesses. We also seek to identify program improvements to reduce CMMC compliance burdens.<br />\n<br />\nPlease register and provide the information requested to receive a Teams link.
LOCATION:Microsoft Teams webinar
UID:e.2428.16048
SEQUENCE:3
DTSTAMP:20260422T181358Z
URL:https://business.wbcutah.com/events/details/sba-office-of-advocacy-cybersecurity-maturity-model-certification-program-small-business-impacts-roundtable-16048
END:VEVENT

END:VCALENDAR
