BEGIN:VCALENDAR
VERSION:2.0
PRODID:-//ChamberMaster//Event Calendar 2.0//EN
METHOD:PUBLISH
X-PUBLISHED-TTL:P3D
REFRESH-INTERVAL:P3D
CALSCALE:GREGORIAN
BEGIN:VEVENT
DTSTART:20251016T173000Z
DTEND:20251016T190000Z
X-MICROSOFT-CDO-ALLDAYEVENT:FALSE
SUMMARY:The Economic Club of Utah Lunch
DESCRIPTION:The Economic Club of Utah invites you to the fall symposium with keynote speaker Dr. Mark Zandi\, Chief Economist for Moody's Analytics. As a trusted voice on the U.S. and global economy\, he frequently testifies before Congress and conducts regular briefings for corporate boards\, trade associations\, and policymakers.\n\nDr. Zandi will provide an outlook for the U.S. economy and take questions from club members.
X-ALT-DESC;FMTTYPE=text/html:<p style="color: rgb(34\, 34\, 34)\; font-family: Arial\, Helvetica\, sans-serif\; font-size: small\; margin-right: 0in\; margin-bottom: 13.5pt\; margin-left: 0in\; line-height: 18pt\;"><span style="font-size: 15pt\; font-family: &quot\;Source Sans Pro&quot\;\, sans-serif\; color: black\;">The Economic Club of Utah invites you to the fall symposium with keynote speaker Dr. Mark Zandi\, Chief Economist for Moody&rsquo\;s Analytics. As a trusted voice on the U.S. and global economy\, he frequently testifies before Congress and conducts regular briefings for corporate boards\, trade associations\, and policymakers.</span></p>\n\n<p style="color: rgb(34\, 34\, 34)\; font-family: Arial\, Helvetica\, sans-serif\; font-size: small\; margin: 0in\; line-height: 18pt\;"><span style="font-size: 15pt\; font-family: &quot\;Source Sans Pro&quot\;\, sans-serif\; color: black\;">Dr. Zandi will provide an outlook for the U.S. economy and take questions from club members.&nbsp\;</span></p>\n
LOCATION:Thomas S. Monson Center 411 East South Temple Street Salt Lake City\, Utah 84111
UID:e.2428.15851
SEQUENCE:3
DTSTAMP:20260424T134117Z
URL:https://business.wbcutah.com/events/details/the-economic-club-of-utah-lunch-15851
END:VEVENT

END:VCALENDAR
