BEGIN:VCALENDAR
VERSION:2.0
PRODID:-//ChamberMaster//Event Calendar 2.0//EN
METHOD:PUBLISH
X-PUBLISHED-TTL:P3D
REFRESH-INTERVAL:P3D
CALSCALE:GREGORIAN
BEGIN:VEVENT
DTSTART:20251203T160000Z
DTEND:20251203T190000Z
X-MICROSOFT-CDO-ALLDAYEVENT:FALSE
SUMMARY:The Guide to Innovation\, Disruption\, and Leadership with Lynette Williams and Jay Elliot!
DESCRIPTION:Bonus: Jay Elliot\, The Mentor Behind Steve Jobs' Magic.\n\nJoin us for an exclusive\, three-hour experience exploring the art of innovation and the power of disruptive thinking   guided by two exceptional leaders.\n\n\n\n9:00 am - 10:00 am\n\nMindset for Disruption with Lynette Williams:\n\nLearn how to shift your thinking\, challenge the status quo\, and position yourself to transform your business and/or your industry.\n\nLynette will share practical frameworks and inspiring stories to help you develop the mental agility to identify   and seize   disruptive opportunities.\n\n\n\n10:00 am - 11:00 am\n\nInnovation & Leadership with Jay Elliot:\n\nJay Elliot\, former Sr. Vice President at Apple and close mentor to Steve Jobs\, offers a rare inside look at the principles and leadership practices that helped shape one of the most innovative companies in history.\n\nGain actionable insights into creating products\, teams\, and cultures that thrive on change.\n\n\n\n11:00 am - 12:00 pm\n\nAudience Q&A: Behind the Scenes with Steve Jobs:\n\nAsk Jay your burning questions about his time working alongside Steve Jobs. \n\nHear personal stories\, leadership lessons\, and behind-the-scenes moments that reveal the genius and challenges of Apple's early years. \n\n\n\nReserve Your Spot Today!\n\n\n\n**Light breakfast provided**
X-ALT-DESC;FMTTYPE=text/html:<h3 style="text-align:center"><span style="font-size:16px"><span style="font-family:arial\,helvetica\,sans-serif"><strong>Bonus: Jay Elliot\, The Mentor Behind Steve Jobs&rsquo\; Magic.</strong></span></span></h3>\n\n<h3><span style="font-size:14px"><span style="font-family:arial\,helvetica\,sans-serif">Join us for an exclusive\, three-hour experience exploring the art of innovation and the power of disruptive thinking &mdash\; guided by two exceptional leaders.<br />\n<br />\n9:00 am - 10:00 am<br />\n<strong>Mindset for Disruption with Lynette Williams:</strong><br />\nLearn how to shift your thinking\, challenge the status quo\, and position yourself to transform your business and/or your industry.<br />\nLynette will share practical frameworks and inspiring stories to help you develop the mental agility to identify &mdash\; and seize &mdash\; disruptive opportunities.<br />\n<br />\n10:00 am - 11:00 am<br />\n<strong>Innovation &amp\; Leadership with Jay Elliot:</strong><br />\nJay Elliot\, former Sr. Vice President at Apple and close mentor to Steve Jobs\, offers a rare inside look at the principles and leadership practices that helped shape one of the most innovative companies in history.<br />\nGain actionable insights into creating products\, teams\, and cultures that thrive on change.<br />\n<br />\n11:00 am - 12:00 pm<br />\n<strong>Audience Q&amp\;A: Behind the Scenes with Steve Jobs:</strong><br />\nAsk Jay your burning questions about his time working alongside Steve Jobs.&nbsp\;<br />\nHear personal stories\, leadership lessons\, and behind-the-scenes moments that reveal the genius and challenges of Apple&#39\;s early years.&nbsp\;<br />\n<br />\n<strong>Reserve Your Spot Today!<br />\n<br />\n<span style="color:#000000">**Light breakfast provided**</span></strong></span></span></h3>\n
LOCATION:Salt Lake Small Business Development Center Salt Lake Community College Larry H. Miller Campus 9750 South 300 West Miller Free Enterprise Center (MFEC) Miller Auditorium Building #3 Sandy\, UT 84070
UID:e.2428.15874
SEQUENCE:3
DTSTAMP:20260424T104017Z
URL:https://business.wbcutah.com/events/details/the-guide-to-innovation-disruption-and-leadership-with-lynette-williams-and-jay-elliot-15874
END:VEVENT

END:VCALENDAR
