BEGIN:VCALENDAR
VERSION:2.0
PRODID:-//ChamberMaster//Event Calendar 2.0//EN
METHOD:PUBLISH
X-PUBLISHED-TTL:P3D
REFRESH-INTERVAL:P3D
CALSCALE:GREGORIAN
BEGIN:VEVENT
DTSTART:20251027T220000Z
DTEND:20251028T020000Z
X-MICROSOFT-CDO-ALLDAYEVENT:FALSE
SUMMARY:Trick or Treasure Night
DESCRIPTION:Stay warm indoors and load up on candy at this must-attend family event. With fall fun and exciting animals\, there's something for everyone. So wear your best costume\, grab your loot bag\, and gather your friends and family for a spooktacular adventure included with $5 Off Family Night admission and free for Members!\n\nCostumes: To ensure a safe and enjoyable experience for our residents and guests we do not allow weapons of any kind\, masks or coverings that obscure the face\, inflatable costumes\, or balloons. Loveland Living Planet Aquarium reserves the right to deny entry to anyone whose costume is inappropriate\, crude\, revealing\, graphic\, or deemed a risk or threat by Aquarium staff.
X-ALT-DESC;FMTTYPE=text/html:<span style="color: rgb(49\, 49\, 49)\; font-family: Avenir\, Lato\, sans-serif\; font-size: 18px\;">Stay warm indoors and load up on candy at this must-attend family event. With fall fun and exciting animals\, there&rsquo\;s something for everyone. So wear your best costume\, grab your loot bag\, and gather your friends and family for a spooktacular adventure&mdash\;included with $5 Off Family Night admission and free for Members!</span><br />\n<span style="box-sizing: border-box\; font-weight: 700\; color: rgb(49\, 49\, 49)\; font-family: Avenir\, Lato\, sans-serif\; font-size: 18px\;"><em style="box-sizing: border-box\;">Costumes:</em></span><span style="color: rgb(49\, 49\, 49)\; font-family: Avenir\, Lato\, sans-serif\; font-size: 18px\;">&nbsp\;</span><em style="box-sizing: border-box\; color: rgb(49\, 49\, 49)\; font-family: Avenir\, Lato\, sans-serif\; font-size: 18px\;">To ensure a safe and enjoyable experience for our residents and guests we do not allow weapons of any kind\, masks or coverings that obscure the face\, inflatable costumes\, or balloons. Loveland Living Planet Aquarium reserves the right to deny entry to anyone whose costume is inappropriate\, crude\, revealing\, graphic\, or deemed a risk or threat by Aquarium staff.</em>
LOCATION:Loveland Living Planet Aquarium 12033 Lone Peak Pkwy\, Draper\, UT 84020
UID:e.2428.15858
SEQUENCE:3
DTSTAMP:20260424T133933Z
URL:https://business.wbcutah.com/events/details/trick-or-treasure-night-15858
END:VEVENT

END:VCALENDAR
