BEGIN:VCALENDAR
VERSION:2.0
PRODID:-//ChamberMaster//Event Calendar 2.0//EN
METHOD:PUBLISH
X-PUBLISHED-TTL:P3D
REFRESH-INTERVAL:P3D
CALSCALE:GREGORIAN
BEGIN:VEVENT
DTSTART:20251202T150000Z
DTEND:20251202T230000Z
X-MICROSOFT-CDO-ALLDAYEVENT:FALSE
SUMMARY:Utah AI Summit
DESCRIPTION:The 2025 Utah AI Summit: Utah's Pro-Human Leadership in the Age of AI brings together leaders from government\, business\, academia and civil society to explore how AI can be harnessed to serve people   empowering workers\, strengthening communities and driving responsible innovation. This event will showcase practical solutions for businesses and forward-looking policy discussions that put human values at the center of technological progress.\n\n \n\nJoin industry\, academic\, and policy leaders to explore how Utah is taking the lead in shaping AI policy. Discover how Utah is emerging as a national leader in prioritizing pro-human values within AI. Utah's pro-human approach is rooted in a commitment to enhancing human capabilities while prioritizing ethical considerations and individual agency. This innovative framework emphasizes applications that enrich lives\, ensuring that AI serves as an empowering tool rather than a replacement for human interaction and decision-making.\n\n\n\n*Please note: The Salt Lake Chamber is a community partner of this event. Registration is taken on the aisummit.utah.gov website.
X-ALT-DESC;FMTTYPE=text/html:<p style="margin: 0px\; font-style: normal\; font-variant-caps: normal\; font-stretch: normal\; line-height: normal\; font-family: &quot\;Helvetica Neue&quot\;\; font-size-adjust: none\; font-kerning: auto\; font-variant-alternates: normal\; font-variant-ligatures: normal\; font-variant-numeric: normal\; font-variant-east-asian: normal\; font-variant-position: normal\; font-variant-emoji: normal\; font-feature-settings: normal\; font-optical-sizing: auto\; font-variation-settings: normal\;">The <strong><a href="http://aisummit.utah.gov">2025 Utah AI Summit: Utah&#39\;s Pro-Human Leadership in the Age of AI</a> </strong>brings together leaders from government\, business\, academia and civil society to explore how AI can be harnessed to serve people &mdash\; empowering workers\, strengthening communities and driving responsible innovation. This event will showcase practical solutions for businesses and forward-looking policy discussions that put human values at the center of technological progress.</p>\n\n<p style="margin: 0px\; font-style: normal\; font-variant-caps: normal\; font-stretch: normal\; line-height: normal\; font-family: &quot\;Helvetica Neue&quot\;\; font-size-adjust: none\; font-kerning: auto\; font-variant-alternates: normal\; font-variant-ligatures: normal\; font-variant-numeric: normal\; font-variant-east-asian: normal\; font-variant-position: normal\; font-variant-emoji: normal\; font-feature-settings: normal\; font-optical-sizing: auto\; font-variation-settings: normal\;">&nbsp\;</p>\n\n<p style="margin: 0px\; font-style: normal\; font-variant-caps: normal\; font-stretch: normal\; line-height: normal\; font-family: &quot\;Helvetica Neue&quot\;\; font-size-adjust: none\; font-kerning: auto\; font-variant-alternates: normal\; font-variant-ligatures: normal\; font-variant-numeric: normal\; font-variant-east-asian: normal\; font-variant-position: normal\; font-variant-emoji: normal\; font-feature-settings: normal\; font-optical-sizing: auto\; font-variation-settings: normal\;">Join industry\, academic\, and policy leaders to explore how Utah is taking the lead in shaping AI policy. Discover how Utah is emerging as a national leader in prioritizing pro-human values within AI. Utah&#39\;s pro-human approach is rooted in a commitment to enhancing human capabilities while prioritizing ethical considerations and individual agency. This innovative framework emphasizes applications that enrich lives\, ensuring that AI serves as an empowering tool rather than a replacement for human interaction and decision-making.<br />\n<br />\n<i>*Please note: The Salt Lake Chamber is a community partner of this event. Registration is taken on the </i><a href="http://aisummit.utah.gov"><i>aisummit.utah.gov</i></a><i> website.</i></p>\n
LOCATION:Salt Palace Convention Center 100 S W Temple St\, Salt Lake City\, UT 84101 Located at the north-west section of the Salt Palace\, joint sessions are in room 355\, with breakout sessions/hackathons in 255 A-F.
UID:e.2428.15894
SEQUENCE:3
DTSTAMP:20260424T101827Z
URL:https://business.wbcutah.com/events/details/utah-ai-summit-15894
END:VEVENT

END:VCALENDAR
