BEGIN:VCALENDAR
VERSION:2.0
PRODID:-//ChamberMaster//Event Calendar 2.0//EN
METHOD:PUBLISH
X-PUBLISHED-TTL:P3D
REFRESH-INTERVAL:P3D
CALSCALE:GREGORIAN
BEGIN:VEVENT
DTSTART:20251002T150000Z
DTEND:20251002T223000Z
X-MICROSOFT-CDO-ALLDAYEVENT:FALSE
SUMMARY:Utah Fraud Prevention Coalition
DESCRIPTION:Utah's Premiere Fraud Prevention Conference for Financial Institutions\, Businesses\, Law Enforcement\, Government\, and Schools.
X-ALT-DESC;FMTTYPE=text/html:Utah&#39\;s Premiere Fraud Prevention Conference for Financial Institutions\, Businesses\, Law Enforcement\, Government\, and Schools.
LOCATION:Zions Technology Center
UID:e.2428.15809
SEQUENCE:3
DTSTAMP:20260424T134025Z
URL:https://business.wbcutah.com/events/details/utah-fraud-prevention-coalition-15809
END:VEVENT

END:VCALENDAR
