BEGIN:VCALENDAR
VERSION:2.0
PRODID:-//ChamberMaster//Event Calendar 2.0//EN
METHOD:PUBLISH
X-PUBLISHED-TTL:P3D
REFRESH-INTERVAL:P3D
CALSCALE:GREGORIAN
BEGIN:VEVENT
DTSTART:20251014T000000Z
DTEND:20251014T020000Z
X-MICROSOFT-CDO-ALLDAYEVENT:FALSE
SUMMARY:Utah Medical Association Event Center Open House
DESCRIPTION:Open House to see Utah Medical Associations new event space.  Come and see this brand new space ideal for corporate events for up to 300 guests seated.  Mingle with event vendors and enjoy food and drinks
X-ALT-DESC;FMTTYPE=text/html:Open House to see Utah Medical Associations new event space.&nbsp\; Come and see this brand new space ideal for corporate events for up to 300 guests seated.&nbsp\; Mingle with event vendors and enjoy food and drinks
LOCATION:6820 S 900 E\, Midvale\, UT 84047
UID:e.2428.15849
SEQUENCE:3
DTSTAMP:20260424T134105Z
URL:https://business.wbcutah.com/events/details/utah-medical-association-event-center-open-house-15849
END:VEVENT

END:VCALENDAR
