BEGIN:VCALENDAR
VERSION:2.0
PRODID:-//ChamberMaster//Event Calendar 2.0//EN
METHOD:PUBLISH
X-PUBLISHED-TTL:P3D
REFRESH-INTERVAL:P3D
CALSCALE:GREGORIAN
BEGIN:VEVENT
DTSTART:20251015T150000Z
DTEND:20251016T000000Z
X-MICROSOFT-CDO-ALLDAYEVENT:FALSE
SUMMARY:Utah Small Business Expo
DESCRIPTION:The Utah Small Business Expo is the premier event where Utah companies both tech and non-tech come together to showcase their products and services\, network with professionals\, and grow. This free\, one-day public event will feature exciting breakout sessions\, engaging panel discussions\, and countless opportunities to connect with incredible companies and business leaders. While all premium and medium booths are sold out\, sponsorships and standard booth opportunities are still available.\n  Main Street Market\n\nShowcase and shop from dozens of local small businesses selling consumer goods\, handmade items\, and services.\n\n   Startup Alley\n\nExplore Utah's newest ventures in tech\, SaaS\, and innovation.\n\n   SMB Services Row\n\nMeet the service providers that help businesses grow   CPAs\, HR firms\, legal consultants\, and nonprofit support programs.\n\n   M&A Exchange\n\nA dedicated area for banks\, brokers\, and entrepreneurs looking to buy\, sell\, or finance small businesses.\n\n   Breakout Sessions\n\nHear from seasoned entrepreneurs\, industry experts\, and community leaders on topics like marketing strategies\, funding best practices\, and operational growth.\n\n Who This Is For:\n\n  Entrepreneurs & side-hustlers\n\n  Service professionals (marketing\, finance\, law)\n\n  Investors\, lenders & business buyers\n\n  Nonprofits & community builders\nExhibit at the expo: https://utahsmallbusinessexpo.com/exhibit/
X-ALT-DESC;FMTTYPE=text/html:<span style="font-family: -apple-system\, system-ui\, BlinkMacSystemFont\, &quot\;Segoe UI&quot\;\, Roboto\, &quot\;Helvetica Neue&quot\;\, &quot\;Fira Sans&quot\;\, Ubuntu\, Oxygen\, &quot\;Oxygen Sans&quot\;\, Cantarell\, &quot\;Droid Sans&quot\;\, &quot\;Apple Color Emoji&quot\;\, &quot\;Segoe UI Emoji&quot\;\, &quot\;Segoe UI Emoji&quot\;\, &quot\;Segoe UI Symbol&quot\;\, &quot\;Lucida Grande&quot\;\, Helvetica\, Arial\, sans-serif\; font-size: small\; background-color: rgb(245\, 247\, 249)\;">The Utah Small Business Expo is the premier event where Utah companies&mdash\;both tech and non-tech&mdash\;come together to showcase their products and services\, network with professionals\, and grow. This free\, one-day public event will feature exciting breakout sessions\, engaging panel discussions\, and countless opportunities to connect with incredible companies and business leaders. While all premium and medium booths are sold out\, sponsorships and standard booth opportunities are still available.</span>\n<p style="box-sizing: border-box\; margin-top: 0px\; margin-bottom: 19px\; color: rgb(44\, 0\, 75)\; font-family: -apple-system\, BlinkMacSystemFont\, &quot\;Apple Color Emoji&quot\;\, Inter\, Roboto\, &quot\;Segoe UI&quot\;\, &quot\;Helvetica Neue&quot\;\, Arial\, &quot\;Noto Sans&quot\;\, sans-serif\; font-size: medium\; background-color: rgb(251\, 240\, 255)\;">&#128313\;&nbsp\;<span style="box-sizing: border-box\; font-weight: 600\;">Main Street Market</span><br style="box-sizing: border-box\; margin-bottom: 0px\;" />\nShowcase and shop from dozens of local small businesses selling consumer goods\, handmade items\, and services.</p>\n\n<p style="box-sizing: border-box\; margin-top: 0px\; margin-bottom: 19px\; color: rgb(44\, 0\, 75)\; font-family: -apple-system\, BlinkMacSystemFont\, &quot\;Apple Color Emoji&quot\;\, Inter\, Roboto\, &quot\;Segoe UI&quot\;\, &quot\;Helvetica Neue&quot\;\, Arial\, &quot\;Noto Sans&quot\;\, sans-serif\; font-size: medium\; background-color: rgb(251\, 240\, 255)\;">&#8203\;&#128313\;&nbsp\;<span style="box-sizing: border-box\; font-weight: 600\;">Startup Alley</span><br style="box-sizing: border-box\; margin-bottom: 0px\;" />\nExplore Utah&rsquo\;s newest ventures in tech\, SaaS\, and innovation.</p>\n\n<p style="box-sizing: border-box\; margin-top: 0px\; margin-bottom: 19px\; color: rgb(44\, 0\, 75)\; font-family: -apple-system\, BlinkMacSystemFont\, &quot\;Apple Color Emoji&quot\;\, Inter\, Roboto\, &quot\;Segoe UI&quot\;\, &quot\;Helvetica Neue&quot\;\, Arial\, &quot\;Noto Sans&quot\;\, sans-serif\; font-size: medium\; background-color: rgb(251\, 240\, 255)\;">&#8203\;&#128313\;&nbsp\;<span style="box-sizing: border-box\; font-weight: 600\;">SMB Services Row</span><br style="box-sizing: border-box\; margin-bottom: 0px\;" />\nMeet the service providers that help businesses grow &mdash\; CPAs\, HR firms\, legal consultants\, and nonprofit support programs.</p>\n\n<p style="box-sizing: border-box\; margin-top: 0px\; margin-bottom: 19px\; color: rgb(44\, 0\, 75)\; font-family: -apple-system\, BlinkMacSystemFont\, &quot\;Apple Color Emoji&quot\;\, Inter\, Roboto\, &quot\;Segoe UI&quot\;\, &quot\;Helvetica Neue&quot\;\, Arial\, &quot\;Noto Sans&quot\;\, sans-serif\; font-size: medium\; background-color: rgb(251\, 240\, 255)\;">&#8203\;&#128313\;&nbsp\;<span style="box-sizing: border-box\; font-weight: 600\;">M&amp\;A Exchange</span><br style="box-sizing: border-box\; margin-bottom: 0px\;" />\nA dedicated area for banks\, brokers\, and entrepreneurs looking to buy\, sell\, or finance small businesses.</p>\n\n<p style="box-sizing: border-box\; margin-top: 0px\; margin-bottom: 19px\; color: rgb(44\, 0\, 75)\; font-family: -apple-system\, BlinkMacSystemFont\, &quot\;Apple Color Emoji&quot\;\, Inter\, Roboto\, &quot\;Segoe UI&quot\;\, &quot\;Helvetica Neue&quot\;\, Arial\, &quot\;Noto Sans&quot\;\, sans-serif\; font-size: medium\; background-color: rgb(251\, 240\, 255)\;">&#8203\;&#128313\;&nbsp\;<span style="box-sizing: border-box\; font-weight: 600\;">Breakout Sessions</span><br style="box-sizing: border-box\; margin-bottom: 0px\;" />\nHear from seasoned entrepreneurs\, industry experts\, and community leaders on topics like marketing strategies\, funding best practices\, and operational growth.</p>\n\n<p style="box-sizing: border-box\; margin-top: 0px\; margin-bottom: 19px\; color: rgb(44\, 0\, 75)\; font-family: -apple-system\, BlinkMacSystemFont\, &quot\;Apple Color Emoji&quot\;\, Inter\, Roboto\, &quot\;Segoe UI&quot\;\, &quot\;Helvetica Neue&quot\;\, Arial\, &quot\;Noto Sans&quot\;\, sans-serif\; font-size: medium\; background-color: rgb(251\, 240\, 255)\;">&#8203\;<span style="box-sizing: border-box\; font-weight: 600\;">Who This Is For:</span><br style="box-sizing: border-box\;" />\n&bull\; Entrepreneurs &amp\; side-hustlers<br style="box-sizing: border-box\;" />\n&bull\; Service professionals (marketing\, finance\, law)<br style="box-sizing: border-box\;" />\n&bull\; Investors\, lenders &amp\; business buyers<br style="box-sizing: border-box\; margin-bottom: 0px\;" />\n&bull\; Nonprofits &amp\; community builders</p>\nExhibit at the expo:&nbsp\;https://utahsmallbusinessexpo.com/exhibit/
LOCATION:Mountain America Exposition Center
UID:e.2428.15855
SEQUENCE:3
DTSTAMP:20260424T134025Z
URL:https://business.wbcutah.com/events/details/utah-small-business-expo-15855
END:VEVENT

END:VCALENDAR
