BEGIN:VCALENDAR
VERSION:2.0
PRODID:-//ChamberMaster//Event Calendar 2.0//EN
METHOD:PUBLISH
X-PUBLISHED-TTL:P3D
REFRESH-INTERVAL:P3D
CALSCALE:GREGORIAN
BEGIN:VEVENT
DTSTART:20251223T010000Z
DTEND:20251223T040000Z
X-MICROSOFT-CDO-ALLDAYEVENT:FALSE
SUMMARY:White Christmas Sing-A-Long
DESCRIPTION:Join us for a magical White Christmas Sing-A-Long!\n\nCelebrate the season with a special screening of the classic holiday film White Christmas\, complete with on-screen lyrics so you can sing along to all your favorite songs   including "Sisters\," "Snow\," and the iconic "White Christmas." Dress in your holiday best\, bring the whole family\, and get ready for an evening full of nostalgia\, cheer\, and timeless music!
X-ALT-DESC;FMTTYPE=text/html:Join us for a magical White Christmas Sing-A-Long!<br />\nCelebrate the season with a special screening of the classic holiday film White Christmas\, complete with on-screen lyrics so you can sing along to all your favorite songs &mdash\; including &ldquo\;Sisters\,&rdquo\; &ldquo\;Snow\,&rdquo\; and the iconic &ldquo\;White Christmas.&rdquo\; Dress in your holiday best\, bring the whole family\, and get ready for an evening full of nostalgia\, cheer\, and timeless music!
LOCATION:Eccles Center for the Performing Arts 1750 Kearns Blvd. Park City\, UT 84060
UID:e.2428.15871
SEQUENCE:3
DTSTAMP:20260424T103913Z
URL:https://business.wbcutah.com/events/details/white-christmas-sing-a-long-15871
END:VEVENT

END:VCALENDAR
