BEGIN:VCALENDAR
VERSION:2.0
PRODID:-//ChamberMaster//Event Calendar 2.0//EN
METHOD:PUBLISH
X-PUBLISHED-TTL:P3D
REFRESH-INTERVAL:P3D
CALSCALE:GREGORIAN
BEGIN:VEVENT
DTSTART:20251101T160000Z
DTEND:20251101T200000Z
X-MICROSOFT-CDO-ALLDAYEVENT:FALSE
SUMMARY:Wild Wild West Brunch -Western Style
DESCRIPTION:What is the best way to feel great after Halloween?  Attend the Wild Wild West Brunch at the luxurious St. Regis Deer Valley!\n\n\n\nEnjoy a gourmet brunch complete with mimosas\, wine\, Bloody Marys\, and live music all while soaking up those breathtaking mountain views. Add in fun games\, lively company\, and a festive western vibe\, and you've got yourself the ultimate way to spend a Saturday in the mountains.\n\n\n\nThis event supports Park City Performing Arts and our three community initiatives:\n\n\n\nCreative Aging   bringing the arts to older adults for creativity\, connection\, and well-being.\n\nVeteran Tickets   providing access to performances for veterans and active-duty service members.\n\nStudent Outreach   inspiring and educating students through meaningful arts experiences.\n\n\n\nTickets:\n\nSingle Ticket: $130\n\nGigi Pip Hat Bar + Brunch: $360 (includes a custom hat fitting & design experience during brunch!)\n\n\n\nCome brunch\, sip\, and celebrate Park City style!\n\n\n\nAttire is western-inspired- think cowboy hats\, boots\, and your favorite western shirt. Come for the brunch\, stay for the fun\, and celebrate supporting world-class entertainment in Park City!
X-ALT-DESC;FMTTYPE=text/html:What is the best way to feel great after Halloween?&nbsp\; Attend the Wild Wild West Brunch at the luxurious St. Regis Deer Valley!<br />\n<br />\nEnjoy a gourmet brunch complete with mimosas\, wine\, Bloody Marys\, and live music&mdash\;all while soaking up those breathtaking mountain views. Add in fun games\, lively company\, and a festive western vibe\, and you&rsquo\;ve got yourself the ultimate way to spend a Saturday in the mountains.<br />\n<br />\nThis event supports Park City Performing Arts and our three community initiatives:<br />\n<br />\nCreative Aging &ndash\; bringing the arts to older adults for creativity\, connection\, and well-being.<br />\nVeteran Tickets &ndash\; providing access to performances for veterans and active-duty service members.<br />\nStudent Outreach &ndash\; inspiring and educating students through meaningful arts experiences.<br />\n<br />\nTickets:<br />\nSingle Ticket: $130<br />\nGigi Pip Hat Bar + Brunch: $360 (includes a custom hat fitting &amp\; design experience during brunch!)<br />\n<br />\nCome brunch\, sip\, and celebrate&mdash\;Park City style!<br />\n<br />\nAttire is western-inspired- think cowboy hats\, boots\, and your favorite western shirt. Come for the brunch\, stay for the fun\, and celebrate supporting world-class entertainment in Park City!&nbsp\;
LOCATION:St Regis Deer Valley 2300 Deer Valley Drive East Park City\, UT\, 84060
UID:e.2428.15860
SEQUENCE:3
DTSTAMP:20260424T115007Z
URL:https://business.wbcutah.com/events/details/wild-wild-west-brunch-western-style-15860
END:VEVENT

END:VCALENDAR
